BEGIN:VCALENDAR
VERSION:2.0
PRODID:-//Modellbau Termine//DE
CALSCALE:GREGORIAN
METHOD:PUBLISH
BEGIN:VEVENT
UID:event-49@modellbau-termine
DTSTAMP:20260424T080624Z
DTSTART:20260808T100000
DTEND:20260809T170000
SUMMARY:50-jährigen Jubiläum des MFC Egglkofen
STATUS:CONFIRMED
URL:https://www.modellbau-termine.de/events/50-jahrigen-jubilaum-des-mfc-egglkofen
DESCRIPTION:Einladung zum 50-jährigen Jubiläum des MFC Egglkofen ✈️🎉\n\n\nDer MFC Egglkofen wird 50 Jahre alt – und das möchten wir mit euch feiern!\nZu diesem besonderen Anlass veranstalten wir einen Jubiläumsflugtag von Samstag bis Sonntag.\nAm Samstag findet Trainingsfliegen für Piloten statt\, um sich optimal auf den Flugtag vorzubereiten.\nDa wir uns aktuell noch mitten in der Planung befinden\, werden wir euch regelmäßig mit neuen Informationen versorgen.\n\n\nUpdate:\nDie Pilotenanmeldung ist ab sofort auf unserer Homepage freigeschaltet:\n👉 http://www.mfc-egglkofen.de\nWir freuen uns schon jetzt auf ein tolles Wochenende mit vielen Gästen\, schönen Modellen und bester Stimmung!\nEuer\nMFC Egglkofen ✈️😊
LOCATION:Modellflugplatz Tegernbach\, 84546 Egglkofen
GEO:48.3868310;12.4706120
ORGANIZER;CN="MFC Egglkofen e.V.":mailto:1.vorstand@mfc-egglkofen.de
END:VEVENT
END:VCALENDAR
