BEGIN:VCALENDAR
VERSION:2.0
PRODID:-//Modellbau Termine//DE
CALSCALE:GREGORIAN
METHOD:PUBLISH
BEGIN:VEVENT
UID:event-45@modellbau-termine
DTSTAMP:20260419T164005Z
DTSTART:20260719T110000
DTEND:20260719T170000
SUMMARY:Chiemsee-Airshow 2026
STATUS:CONFIRMED
URL:https://www.modellbau-termine.de/events/chiemsee-airshow-2026
DESCRIPTION:Die Chiemsee-Airshow ist die größte Modellflugshow der nördlichen Alpenregion.\nDiese Mega-Flugshow eingeladener Top-Piloten aus der Region\, zeigt die gesamte Bandreite des Modellflugs.\nVon der über 10m langen Concorde von Otto Widlroither\, über die historschen Himmelmoped von Thomas Stöhr und Günter Niedermeier\, bis hin zu Modellen aus den Anfängen des Modellfluges wird am Himmel über Unterwössen zu sehen sein. Über 30 Piloten zeigen ihre Modelle und ihr Können.\nDer Segelflugplatz in Unterwössen beitet dafür die passende Kulisse.
LOCATION:Streichenweg 40\, 83246 Unterwössen
GEO:47.7280350;12.4362537
ORGANIZER;CN="MFG Achental e.V.":mailto:info@mfg-achental.de
END:VEVENT
END:VCALENDAR
