BEGIN:VCALENDAR
VERSION:2.0
PRODID:-//Modellbau Termine//DE
CALSCALE:GREGORIAN
METHOD:PUBLISH
BEGIN:VEVENT
UID:event-46@modellbau-termine
DTSTAMP:20260422T103444Z
DTSTART:20260724T100000
DTEND:20260726T180000
SUMMARY:Holiday in Air
STATUS:CONFIRMED
URL:https://www.modellbau-termine.de/events/holiday-in-air
DESCRIPTION:Motto vom Anfänger bis zum Profi
LOCATION:Ammerthalerweg 51\, 92224 Amberg
GEO:49.4406686;11.8112375
ORGANIZER;CN="Luftsportgruppe Amberg":mailto:info@holidayinair.de
END:VEVENT
END:VCALENDAR
