BEGIN:VCALENDAR
VERSION:2.0
PRODID:-//Modellbau Termine//DE
CALSCALE:GREGORIAN
METHOD:PUBLISH
BEGIN:VEVENT
UID:event-48@modellbau-termine
DTSTAMP:20260423T140712Z
DTSTART:20260711T100000
DTEND:20260711T220000
SUMMARY:Sommerfest MFC Oberhausen
STATUS:CONFIRMED
URL:https://www.modellbau-termine.de/events/sommerfest-mfc-oberhausen
DESCRIPTION:Sommerfest am 11.7. 26 .\nFrei nach dem Motto alles was fliegt. Fürs leibliche Wohl wird gesorgt. Nachtflug \, Heli \, Fläche \, jeder ist willkommen
LOCATION:Alter Postweg 9\, 46244 Bottrop
GEO:51.6285259;6.9038297
ORGANIZER;CN="MFC Oberhausen":mailto:l_wehling@web.de
END:VEVENT
END:VCALENDAR
